BEGIN:VCALENDAR
VERSION:2.0
PRODID:-//Hugo House - ECPv6.15.18//NONSGML v1.0//EN
CALSCALE:GREGORIAN
METHOD:PUBLISH
X-WR-CALNAME:Hugo House
X-ORIGINAL-URL:https://hugohouse.org
X-WR-CALDESC:Events for Hugo House
REFRESH-INTERVAL;VALUE=DURATION:PT1H
X-Robots-Tag:noindex
X-PUBLISHED-TTL:PT1H
BEGIN:VTIMEZONE
TZID:America/Los_Angeles
BEGIN:DAYLIGHT
TZOFFSETFROM:-0800
TZOFFSETTO:-0700
TZNAME:PDT
DTSTART:20190310T100000
END:DAYLIGHT
BEGIN:STANDARD
TZOFFSETFROM:-0700
TZOFFSETTO:-0800
TZNAME:PST
DTSTART:20191103T090000
END:STANDARD
BEGIN:DAYLIGHT
TZOFFSETFROM:-0800
TZOFFSETTO:-0700
TZNAME:PDT
DTSTART:20200308T100000
END:DAYLIGHT
BEGIN:STANDARD
TZOFFSETFROM:-0700
TZOFFSETTO:-0800
TZNAME:PST
DTSTART:20201101T090000
END:STANDARD
BEGIN:DAYLIGHT
TZOFFSETFROM:-0800
TZOFFSETTO:-0700
TZNAME:PDT
DTSTART:20210314T100000
END:DAYLIGHT
BEGIN:STANDARD
TZOFFSETFROM:-0700
TZOFFSETTO:-0800
TZNAME:PST
DTSTART:20211107T090000
END:STANDARD
END:VTIMEZONE
BEGIN:VEVENT
DTSTART;TZID=America/Los_Angeles:20200917T173000
DTEND;TZID=America/Los_Angeles:20200917T173000
DTSTAMP:20260422T113512
CREATED:20200901T045600Z
LAST-MODIFIED:20200901T045600Z
UID:249766-1600363800-1600363800@hugohouse.org
SUMMARY:Quarantine Write-In with Sharon Bryan
DESCRIPTION:Writing can help us process our feelings about the unprecedented events unfolding around us. But it can be hard to find the focus and the motivation when we’re stressed and overwhelmed. To help get those words flowing\, join us at this free weekly write-in via Zoom\, where you’ll get writing prompts\, time to write\, and the opportunity to connect with other writers. Whether you want to journal\, blog\, or produce other writing during this uncertain time\, this event will jumpstart your creativity. We’ll spend half an hour writing\, and half an hour sharing our writing\, and discussing issues related to writing during the pandemic. \nRSVP at the “Tickets” link for as many sessions as you’d like to attend. You can sign up for them one by one each week\, or all at once. \n\nAbout the Facilitator\n\n \nSharon Bryan received her BA in philosophy and an MA in anthropology before she began to write poetry\, and then received her MFA from the University of Iowa. She has published four books of poems: Sharp Stars\, Flying Blind\, Objects of Affection\, and Salt Air\, which won The Governor’s Award from the State of Washington. She received the Isabella Gardner Award for Sharp Stars. Her other awards include two NEA Fellowships in Poetry\, an Academy of American Poet’s Prize\, the Discovery Award from The Nation\, an Artist Trust Grant from the Washington State Arts Council\, a Senior Fellowship to the Provincetown Fine Arts Work Center\, a grant from the Utah Arts Council for the film collaboration Eureka\, and a Fellowship in Poetry from the Tennessee Arts Commission\, among others. She was Poet-in-Residence at The Frost Place in Franconia\, New Hampshire. \nShe is also the editor of two collections: Where We Stand: Women Poets on Literary Tradition\, and\, with William Olsen\, Planet on the Table: Poets on the Reading Life. \n 
URL:https://hugohouse.org/event/quarantine-write-in/2020-09-17/
END:VEVENT
BEGIN:VEVENT
DTSTART;TZID=America/Los_Angeles:20200924T173000
DTEND;TZID=America/Los_Angeles:20200924T173000
DTSTAMP:20260422T113512
CREATED:20200901T045600Z
LAST-MODIFIED:20200901T045600Z
UID:249767-1600968600-1600968600@hugohouse.org
SUMMARY:Quarantine Write-In with Sharon Bryan
DESCRIPTION:Writing can help us process our feelings about the unprecedented events unfolding around us. But it can be hard to find the focus and the motivation when we’re stressed and overwhelmed. To help get those words flowing\, join us at this free weekly write-in via Zoom\, where you’ll get writing prompts\, time to write\, and the opportunity to connect with other writers. Whether you want to journal\, blog\, or produce other writing during this uncertain time\, this event will jumpstart your creativity. We’ll spend half an hour writing\, and half an hour sharing our writing\, and discussing issues related to writing during the pandemic. \nRSVP at the “Tickets” link for as many sessions as you’d like to attend. You can sign up for them one by one each week\, or all at once. \n\nAbout the Facilitator\n\n \nSharon Bryan received her BA in philosophy and an MA in anthropology before she began to write poetry\, and then received her MFA from the University of Iowa. She has published four books of poems: Sharp Stars\, Flying Blind\, Objects of Affection\, and Salt Air\, which won The Governor’s Award from the State of Washington. She received the Isabella Gardner Award for Sharp Stars. Her other awards include two NEA Fellowships in Poetry\, an Academy of American Poet’s Prize\, the Discovery Award from The Nation\, an Artist Trust Grant from the Washington State Arts Council\, a Senior Fellowship to the Provincetown Fine Arts Work Center\, a grant from the Utah Arts Council for the film collaboration Eureka\, and a Fellowship in Poetry from the Tennessee Arts Commission\, among others. She was Poet-in-Residence at The Frost Place in Franconia\, New Hampshire. \nShe is also the editor of two collections: Where We Stand: Women Poets on Literary Tradition\, and\, with William Olsen\, Planet on the Table: Poets on the Reading Life. \n 
URL:https://hugohouse.org/event/quarantine-write-in/2020-09-24/
END:VEVENT
END:VCALENDAR