BEGIN:VCALENDAR
VERSION:2.0
PRODID:-//Hugo House - ECPv6.15.18//NONSGML v1.0//EN
CALSCALE:GREGORIAN
METHOD:PUBLISH
X-WR-CALNAME:Hugo House
X-ORIGINAL-URL:https://hugohouse.org
X-WR-CALDESC:Events for Hugo House
REFRESH-INTERVAL;VALUE=DURATION:PT1H
X-Robots-Tag:noindex
X-PUBLISHED-TTL:PT1H
BEGIN:VTIMEZONE
TZID:America/Los_Angeles
BEGIN:DAYLIGHT
TZOFFSETFROM:-0800
TZOFFSETTO:-0700
TZNAME:PDT
DTSTART:20250309T100000
END:DAYLIGHT
BEGIN:STANDARD
TZOFFSETFROM:-0700
TZOFFSETTO:-0800
TZNAME:PST
DTSTART:20251102T090000
END:STANDARD
BEGIN:DAYLIGHT
TZOFFSETFROM:-0800
TZOFFSETTO:-0700
TZNAME:PDT
DTSTART:20260308T100000
END:DAYLIGHT
BEGIN:STANDARD
TZOFFSETFROM:-0700
TZOFFSETTO:-0800
TZNAME:PST
DTSTART:20261101T090000
END:STANDARD
BEGIN:DAYLIGHT
TZOFFSETFROM:-0800
TZOFFSETTO:-0700
TZNAME:PDT
DTSTART:20270314T100000
END:DAYLIGHT
BEGIN:STANDARD
TZOFFSETFROM:-0700
TZOFFSETTO:-0800
TZNAME:PST
DTSTART:20271107T090000
END:STANDARD
END:VTIMEZONE
BEGIN:VEVENT
DTSTART;TZID=America/Los_Angeles:20260526T173000
DTEND;TZID=America/Los_Angeles:20260526T190000
DTSTAMP:20260422T073757
CREATED:20260421T195833Z
LAST-MODIFIED:20260422T091242Z
UID:1570352-1779816600-1779822000@hugohouse.org
SUMMARY:Write Here Now with Grace Bialecki
DESCRIPTION:Does writing always fall to the last spot on your to-do list? Or maybe\, lately\, it hasn’t even been making it on there at all? If life keeps getting in the way of your creative practice\, this monthly group is for you. During our hour-and-a-half meeting\, you’ll have plenty of time to put pen to paper\, or fingers to keyboard. Whether you’re chipping away at an existing project\, or responding to a provided prompt\, this time is dedicated to you and your writing. And at the close of each session\, you’ll have a chance to share your words (or feelings) with fellow writers and be part of a supportive creative community.  \nAbout Write with Hugo House \nWrite with Hugo House is a free drop-in writing circle for adults of all ages and genres of writing. Bring something you’re working on\, or just come ready to write. You will have the opportunity to share your work and get feedback—but only if you want to (no pressure). You can also use this time to increase productivity on your current work in progress\, surrounded by fellow writers.
URL:https://hugohouse.org/event/write-here-now-with-grace-bialecki_2026-05-26/
CATEGORIES:Writing Circle/Write-In
END:VEVENT
END:VCALENDAR